BEGIN:VCALENDAR
PRODID:-//ibbr10230//EN
VERSION:2.0
BEGIN:VEVENT
SUMMARY:Brown &amp; Co.: Online Timed Auction of Modern Farm Machinery and Equipment
PRIORITY:0
CLASS:PUBLIC
DTSTART:20260604T060000Z
DTEND:20260609T110000Z
DESCRIPTION:
X-ALT-DESC;FMTTYPE=text/html:
LOCATION: ,  ,  ,  , Lincolnshire, United Kingdom
END:VEVENT
END:VCALENDAR