BEGIN:VCALENDAR
PRODID:-//ibbr10227//EN
VERSION:2.0
BEGIN:VEVENT
SUMMARY:Brown &amp; Co.: Sale by Auction of Modern Farm Machinery and Equipment
PRIORITY:0
CLASS:PUBLIC
DTSTART:20260521T093000Z
DTEND:20260521T225900Z
DESCRIPTION:
X-ALT-DESC;FMTTYPE=text/html:
LOCATION: ,  ,  ,  , Nottinghamshire, United Kingdom
END:VEVENT
END:VCALENDAR